BEGIN:VCALENDAR
VERSION:2.0
PRODID:-//Pittsburgh Basketball Club - ECPv6.3.2//NONSGML v1.0//EN
CALSCALE:GREGORIAN
METHOD:PUBLISH
X-ORIGINAL-URL:https://pghbasketballclub.com
X-WR-CALDESC:Events for Pittsburgh Basketball Club
REFRESH-INTERVAL;VALUE=DURATION:PT1H
X-Robots-Tag:noindex
X-PUBLISHED-TTL:PT1H
BEGIN:VTIMEZONE
TZID:UTC
BEGIN:STANDARD
TZOFFSETFROM:+0000
TZOFFSETTO:+0000
TZNAME:UTC
DTSTART:20200101T000000
END:STANDARD
END:VTIMEZONE
BEGIN:VEVENT
DTSTART;TZID=UTC:20201101T080000
DTEND;TZID=UTC:20201101T170000
DTSTAMP:20260425T141744
CREATED:20201101T162216Z
LAST-MODIFIED:20201101T162216Z
UID:2251-1604217600-1604250000@pghbasketballclub.com
SUMMARY:PBC WOMENS HALL OF FAME CLASS ANNOUNCED
DESCRIPTION:  \n \nThe Pittsburgh Basketball Club Women’s Hall of Fame committee is very proud to announce the following have been selected to the PBC Women’s Hall of Fame\, Class of 2020. \nWe will honor these amazing\, coaches\, contributors\, and student athletes at the Annual Women’s Hall of Fame Luncheon. Due to the ongoing worldwide Pandemic\, we have rescheduled this year’s Banquet for May 1\, 2020 at the banquet room at Rockefellers Grille. More information on tickets will be posted after the 1st of the year. \nTo the following who have done so much for women’s basketball in Western Pa….. Welcome Home\, class of 2020!!! \nLEGENDS DIVISION \nConnie Hurt \nPenn Hills High School -Pitt \nKathy Radilla \nGreensburg Central Catholic-Duquesne \nAnne Malkowiak \nEllwood City High School- California (PA) \nJoy Jeter \nBeaver Falls High School -Central Connecticut State \nTonya Steals \nBeaver Falls High School -Central Connecticut State \nAudrey Scott \nNorthgate High School- Edinboro University \nCarlita Jones \nPeabody High School- Clarion University \nHolly Cundiff \nNorth Catholic High School-Niagara University \nJodie Thornton Powell \nNorth Catholic High School-American University \nCOACHES/CONTRIBUTORS \n Pam Miller \nBaldwin High School- Collegiate and High School Official \nTim Joyce \nCoach Bishop Canevin High School WPIAL Champion 2013\, 2016\, 2017 \nTo the class of 2020\, thank you for all you have done for the women’s game of basketball in Western PA…. Welcome Home!
URL:https://pghbasketballclub.com/event/pbc-womens-hall-of-fame-class-announced/
END:VEVENT
BEGIN:VEVENT
DTSTART;TZID=UTC:20201101T080000
DTEND;TZID=UTC:20201101T170000
DTSTAMP:20260425T141744
CREATED:20201101T170018Z
LAST-MODIFIED:20201101T170018Z
UID:2253-1604217600-1604250000@pghbasketballclub.com
SUMMARY:OLSH WINS 2020 “OUTDOOR” FALL LEAGUE
DESCRIPTION:Congratulations to Coach Mike Rodriguez and the OLSH Chargers for winning the 2020 PBC “Outdoor” Fall League. For the safety of all\, this year’s league was held outdoors using the courts at Kennedy Twp.’s Fairhaven Park and Robinson Twp.’s Clever Park. \nOLSH won this year’s championship defeating Canon Mac in the finals and finished their fall season at 8-1.  Also making the semifinals were Central Catholic and Montour. This year’s results will be recorded in our Summer League championship records as we were unable to hold our annual summer leagues. \nThank you to the good folks of Robinson and Kennedy Twp. for prepping their venues so the kids could play safely. Equally big Thank you to the players\, coaches and fans at North Catholic\, Central Catholic\, OLSH\, Montour\, Hampton\, Canon McMillan\, Pine Richland and Sto-Rox for their participation and co-operation in honoring all the rules and regulations required so everyone could be safe and enjoy the games. \nOutdoor play was quite old school for players\, coaches and fans alike. Lots of memories and great stories shared by many coaches and fans during the course of the league. This concept was well received by all and I think it is a concept that we will host again in 2021!
URL:https://pghbasketballclub.com/event/olsh-wins-2020-outdoor-fall-league/
END:VEVENT
END:VCALENDAR