BEGIN:VCALENDAR
VERSION:2.0
PRODID:-//Pittsburgh Basketball Club - ECPv6.3.2//NONSGML v1.0//EN
CALSCALE:GREGORIAN
METHOD:PUBLISH
X-WR-CALNAME:Pittsburgh Basketball Club
X-ORIGINAL-URL:https://pghbasketballclub.com
X-WR-CALDESC:Events for Pittsburgh Basketball Club
REFRESH-INTERVAL;VALUE=DURATION:PT1H
X-Robots-Tag:noindex
X-PUBLISHED-TTL:PT1H
BEGIN:VTIMEZONE
TZID:UTC
BEGIN:STANDARD
TZOFFSETFROM:+0000
TZOFFSETTO:+0000
TZNAME:UTC
DTSTART:20150101T000000
END:STANDARD
END:VTIMEZONE
BEGIN:VEVENT
DTSTART;VALUE=DATE:20160116
DTEND;VALUE=DATE:20160117
DTSTAMP:20260426T030157
CREATED:20150907T211017Z
LAST-MODIFIED:20160104T165819Z
UID:321-1452902400-1452988799@pghbasketballclub.com
SUMMARY:2016 GIRLS HIGH SCHOOL CLASSIC AT AMBRIDGE
DESCRIPTION:2016 Pittsburgh Girls High School Classic\nI am most pleased to announce the lineups for the 2016 Pittsburgh Basketball Club Girls High School Classic. \nThis year’s event will be held January 16\, 2016 at the “new” Ambridge Field House and will feature several of the area’s top ladies teams to kick off the event. \nThe 2016 slate of games is as follows: \n12:00 PM Lincoln Park vs. Sto-Rox \n1:30 PM Obama vs. South Park \n3:00 PM Montour vs. Beaver Falls \n4:30 PM Seneca Valley vs. North Catholic \n6:00 PM Ambridge vs. Vincentian \nAll day game passes are only $5.00 for adults\, $3.00 for students  \nNo individual game tickets are sold!  \nPlease come out and support ALL of these lady hoopers! \n  \n 
URL:https://pghbasketballclub.com/event/2016-girls-high-school-classic-at-ambridge/
LOCATION:Ambridge High School\, 909 Duss Avenue\, Ambridge\, 15001\, United States
END:VEVENT
BEGIN:VEVENT
DTSTART;TZID=UTC:20151219T080000
DTEND;TZID=UTC:20151219T210000
DTSTAMP:20260426T030157
CREATED:20151003T174017Z
LAST-MODIFIED:20151207T215909Z
UID:357-1450512000-1450558800@pghbasketballclub.com
SUMMARY:2015 PBC Holiday Festival
DESCRIPTION:PBC  HOLIDAY FESTIVAL-2015 \nWestern Pa’s top teams converge on the Aliquippa Field House in 2015! \nThe 2015 PBC  Holiday Festival will be held December 19\, 2015 at the Field House on the campus of Aliquippa High School. This all day basketball event will bring our area’s best under one roof for an action packed day of basketball. The event is considered by most to be Western Pa’s top pre season basketball event! \nThe schedule of games is as follows: \n11:45 AM- Moon  vs. Avonworth \n1:15 PM- Jeanette  vs Beaver Falls \n2:45 PM – Quaker Valley  vs. West Allegheny \n4:30 PM – Hampton  vs Central Valley \n6:00 PM- Obama  vs Canon Mac \n7:30 PM – Central Catholic  vs Aliquippa\nAll day game passes are only $6.00 for adults\, $3.00 for students.
URL:https://pghbasketballclub.com/event/2015-pbc-holiday-festival/
LOCATION:Aliquippa High School\, Harding Avenue\, Aliquippa\, PA\, 15001\, United States
END:VEVENT
BEGIN:VEVENT
DTSTART;TZID=UTC:20151003T080000
DTEND;TZID=UTC:20151112T170000
DTSTAMP:20260426T030157
CREATED:20151003T171345Z
LAST-MODIFIED:20151003T171932Z
UID:349-1443859200-1447347600@pghbasketballclub.com
SUMMARY:2015 FALL LEAGUE SCHEDULES
DESCRIPTION:  \n \nThe 2015 PBC Fall League tipped off the week of September 29\, 2015 at Central Catholic\, Montour and Ambridge High School. Attached are the playing schedules for the sites for your enjoyment. \nMontour Fall League Schedule \nCentral Catholic Fall League Schedule \nAmbridge Fall League Schedule
URL:https://pghbasketballclub.com/event/2015-fall-league-schedules/
END:VEVENT
END:VCALENDAR